BEGIN:VCALENDAR
VERSION:2.0
PRODID:-//Microsoft Corporation//Outlook 16.0 MIMEDIR//EN
BEGIN:VEVENT
SUMMARY:Jong in de Bouw\, cao in de steigers
DTSTART;TZID=Europe/Amsterdam;VALUE=DATE-TIME:20260924T140000
DTEND;TZID=Europe/Amsterdam;VALUE=DATE-TIME:20260924T180000
DTSTAMP;VALUE=DATE-TIME:20260407T080304Z
UID:20260407T080304Z-174355-640832@aanmelder.nl
CLASS:PUBLIC
ORGANIZER;CN="Jong Bouwend Nederland":MAILTO:i.zuiker@bouwendnederland.nl
PRIORITY:5
END:VEVENT
BEGIN:VTIMEZONE
TZID:Europe/Amsterdam
BEGIN:DAYLIGHT
DTSTART;VALUE=DATE-TIME:20260329T020000
TZNAME:CEST
TZOFFSETFROM:+0100
TZOFFSETTO:+0200
END:DAYLIGHT
END:VTIMEZONE
END:VCALENDAR
